BEGIN:VCALENDAR
VERSION:2.0
PRODID:-//Kaaos Company EN - ECPv6.13.0//NONSGML v1.0//EN
CALSCALE:GREGORIAN
METHOD:PUBLISH
X-WR-CALNAME:Kaaos Company EN
X-ORIGINAL-URL:https://kaaoscompany.fi/en
X-WR-CALDESC:Events for Kaaos Company EN
REFRESH-INTERVAL;VALUE=DURATION:PT1H
X-Robots-Tag:noindex
X-PUBLISHED-TTL:PT1H
BEGIN:VTIMEZONE
TZID:Europe/Helsinki
BEGIN:DAYLIGHT
TZOFFSETFROM:+0200
TZOFFSETTO:+0300
TZNAME:EEST
DTSTART:20250330T010000
END:DAYLIGHT
BEGIN:STANDARD
TZOFFSETFROM:+0300
TZOFFSETTO:+0200
TZNAME:EET
DTSTART:20251026T010000
END:STANDARD
END:VTIMEZONE
BEGIN:VEVENT
DTSTART;TZID=Europe/Helsinki:20250605T110000
DTEND;TZID=Europe/Helsinki:20250605T130000
DTSTAMP:20260423T232939
CREATED:20250509T093346Z
LAST-MODIFIED:20250527T085631Z
UID:7105-1749121200-1749128400@kaaoscompany.fi
SUMMARY:XDF: Workshop - Lauren Sheely (USA) and Jonna Lehto (FIN) / Unfolding Disability Futures and Kaaos Company
DESCRIPTION:Workshop: Humorously yours\, my body \nDescription\nJoin Jonna Lehto and Lauren Sheely for this playful workshop exploring the body as a site for comedic possibility. Participants will be led through a series of explorations to investigate the comedic potential of dance improvisation utilizing the body as a starting point. We will then begin to utilize our improvisations to develop movement and gestural phrases\, with the potential of collaborating together in different combinations. Our goal is to create a space for participants to consider the bodies as material for comedy\, giving permission to improvise with curiosity and lightness. \n👉 To buy tickets\, please visit the ticketing page (external link).
URL:https://kaaoscompany.fi/en/event/xdf-workshop-humorously-yours-my-body-johna-lehto-and-lauren-sheely/
LOCATION:Cultural Center Caisa\, Finland
CATEGORIES:XDF
END:VEVENT
BEGIN:VEVENT
DTSTART;TZID=Europe/Helsinki:20250605T140000
DTEND;TZID=Europe/Helsinki:20250605T160000
DTSTAMP:20260423T232939
CREATED:20250527T090043Z
LAST-MODIFIED:20250527T090056Z
UID:8243-1749132000-1749139200@kaaoscompany.fi
SUMMARY:XDF: Workshop - Paulina Rewucka (DK) / FIMD
DESCRIPTION:Workshop: K-POW-orkshop \nDescription\nK-POW-orkshop will be an opening of the process of creating a solo performance by Sissel with Paulina as choreographic assistant. Together\, they will facilitate a workshop offering young participants and families insight into the methods and motifs shaping the solo. \nWe will begin with a gentle warm-up to attune to our bodies and each other. From there\, we’ll explore movement material inspired by K-pop\, focusing on short choreographic sequences based on hand gestures. Using this material as a starting point\, we will experiment with choreographic tools such as interviewing one another\, adding textures\, and shifting spatial configurations. \n👉 To buy tickets\, please visit the ticketing page (external link).
URL:https://kaaoscompany.fi/en/event/xdf-workshop-paulina-rewucka-dk-fimd/
LOCATION:Cultural Center Caisa\, Finland
CATEGORIES:XDF
END:VEVENT
BEGIN:VEVENT
DTSTART;TZID=Europe/Helsinki:20250605T160000
DTEND;TZID=Europe/Helsinki:20250605T173000
DTSTAMP:20260423T232939
CREATED:20250527T090858Z
LAST-MODIFIED:20250527T100039Z
UID:8245-1749139200-1749144600@kaaoscompany.fi
SUMMARY:XDF: Panel Discussion: Riina Hannuksela and Sydney Erlikh
DESCRIPTION:Panel Discussion: Making the invisible visible \nThis bilingual (fin/eng) panel brings together directors\, educators\, and artists with intellectual or learning disabilities (ID) to talk about the challenges and opportunities in professional dance training. The discussion aims to shed light on the challenges dancers with ID face when pursuing professional training and a career. \nThis panel highlights the ongoing challenges in making professional dance training accessible to dancers with intellectual and learning disabilities. By sharing experiences and envisioning the future\, the discussion promotes a change to ensure dancers with intellectual disabilities have a clear path to professional careers. \nYou can join this panel discussion virtually via zoom. Email silvalaukkanen@gmail.com to receive your zoom link. \nThis event is free.
URL:https://kaaoscompany.fi/en/event/xdf-panel-discussion-riina-hannuksela-and-sydney-erlikh/
LOCATION:Cultural Center Caisa\, Finland
CATEGORIES:XDF
END:VEVENT
BEGIN:VEVENT
DTSTART;TZID=Europe/Helsinki:20250605T180000
DTEND;TZID=Europe/Helsinki:20250605T193000
DTSTAMP:20260423T232939
CREATED:20250430T102451Z
LAST-MODIFIED:20250527T091406Z
UID:6030-1749146400-1749151800@kaaoscompany.fi
SUMMARY:XDF: Performance - REVolutions Dance (USA) and Ihanat Company (FI)
DESCRIPTION:Two performances – REVolutions Dance: The shape of time and Ihanat Company :2×2 \nThe Shape of Time (8min) \nDancers: Sam Kedziora & Dwayne Scheuneman Choreographer: Frank Chaves Music: Mark Danziger & Aaron Wunsch  \n“The Shape of Time” was originally created from the long friendship of a disabled military veteran and a mother of two\, both returning to the dance world after stepping away for some years to tend to life’s other demands. It follows a journey of trust\, friendship\, and the collaboration of two people who use dance to encourage us all to accept and love one another. \nIn this performance\, the role of the mother dancer is performed by another artist\, honoring the original collaboration while acknowledging the reality that many mothers face—the difficulty of traveling long distances and being away from their children. \nIhanat Company: 2 x 2 (45-60min) \nWorking group: Sofia Johansson\, liris Laisi\, Elisa Lejeune\, Vappu Virkkula\, Riina Hannuksela\, Aarne Rikonen\, Riitta Röpelinen\, Virva Talonen\, Ina Niemelä Goofing around. \nA skull. It felt cute. 1 looked like a princess. A bit awkward. When we danced\, I braided your hair. This turned into a black wolf character. Zombie\, an evil dance. I could write a new story. When the fish watch. I liked everything. I am tired. Embarrassing. A cosy sleeping nest. The dance performance “2 x 2” by the Ihanat Company is built around two duets\, each inspired by encountering the other dancer through movement. In the choreographic process\, the experience of dancing together has been explored through a variation of mirror exercises\, touch\, and working with various fabric materials. The long-term process has given rise to two unique\, improvisation-based duets that\, in “2 × 2\, are layered side by side\, intertwined\, and overlapping. The choreography takes shape anew\, in part\, with each performance event. \nThere will be a Q&A after the performance. \n\n👉To buy tickets\, please visit the ticketing page (external link).
URL:https://kaaoscompany.fi/en/event/xdf-performance-revolutions-dance-usa-and-ihanat-company-fi/
LOCATION:Cultural Center Caisa\, Finland
CATEGORIES:XDF
END:VEVENT
END:VCALENDAR