BEGIN:VCALENDAR
VERSION:2.0
PRODID:-//Kaaos Company EN - ECPv6.13.0//NONSGML v1.0//EN
CALSCALE:GREGORIAN
METHOD:PUBLISH
X-ORIGINAL-URL:https://kaaoscompany.fi/en
X-WR-CALDESC:Events for Kaaos Company EN
REFRESH-INTERVAL;VALUE=DURATION:PT1H
X-Robots-Tag:noindex
X-PUBLISHED-TTL:PT1H
BEGIN:VTIMEZONE
TZID:Europe/Helsinki
BEGIN:DAYLIGHT
TZOFFSETFROM:+0200
TZOFFSETTO:+0300
TZNAME:EEST
DTSTART:20250330T010000
END:DAYLIGHT
BEGIN:STANDARD
TZOFFSETFROM:+0300
TZOFFSETTO:+0200
TZNAME:EET
DTSTART:20251026T010000
END:STANDARD
END:VTIMEZONE
BEGIN:VEVENT
DTSTART;TZID=Europe/Helsinki:20250606T110000
DTEND;TZID=Europe/Helsinki:20250606T130000
DTSTAMP:20260423T232942
CREATED:20250509T101358Z
LAST-MODIFIED:20250527T091537Z
UID:7126-1749207600-1749214800@kaaoscompany.fi
SUMMARY:XDF: Workshop - Sydney Erlikh\, Deb Goodman & Kris Lenzo (USA) Unfolding Disability Futures
DESCRIPTION:Workshop: Wheelchair dance workshop \nOur workshop will be taught by teacher and choreographer Deb Goodman\, dancer/teacher/choreographer Kris Lenzo and dancer/teacher/choreographer/scholar Sydney Erlikh. Our workshop will include personal introductions paired with a movement chosen by each participant. Dancers will have the opportunity to inform the group about any specific needs\, injuries and requests concerning their bodies. We will stress the importance of moving in a safe manner\, listening to and honoring our bodies and generally taking care of ourselves and each other.  \nDeb will lead us in a breathing warm-up paired with gentle stretching. \nKris will lead us in a shoulder/neck/upper body warm-up. \nAfter introductions and Deb’s and Kris’ warm-up exercises Kris will discuss setting up and adjusting a wheelchair for dance. Kris will demonstrate various ways of moving and balancing in a wheelchair. Kris will do some partnering with Deb and/or Sydney to show some possibilities of movement.  \nWe will use mirroring\, diamond/swan\, shadowing\, weight sharing(push and pull) to explore dance vocabulary. \nWe will break into groups\, create work  and show it to each other. \nWe will finish in a circle with a chance to reflect and share. \n👉 To buy tickets\, please visit the ticketing page (external link).
URL:https://kaaoscompany.fi/en/event/xdf-workshop-workshop-wheelchair-dance-sydney-erlikh-deb-goodman-kris-lenzo-from-unfolding-disability-futures/
LOCATION:Cultural Center Caisa\, Finland
CATEGORIES:XDF
END:VEVENT
BEGIN:VEVENT
DTSTART;TZID=Europe/Helsinki:20250606T160000
DTEND;TZID=Europe/Helsinki:20250606T173000
DTSTAMP:20260423T232942
CREATED:20250527T092442Z
LAST-MODIFIED:20250527T100028Z
UID:8253-1749225600-1749231000@kaaoscompany.fi
SUMMARY:XDF: Panel Discussion: Silva Laukkanen (FIN)\, Ingeborg Dugstad Sanders (NO)\, Janne Kristensen (DK)\, Veera Suvalo Grimberg (SW)
DESCRIPTION:Panel Discussion: Building a Nordic Network for Inclusive Dance \nThis panel introduces a new initiative to develop a collaborative network among inclusive dance organizations in Norway\, Finland\, Sweden\, and Denmark. While each country has made significant strides in advancing inclusive dance education and artistry\, much of this work has occurred in isolation. Through this partnership\, we aim to share knowledge\, resources\, and best practices to address shared challenges and build a more connected\, sustainable\, and accessible dance field across the Nordic region. \nPanelists will discuss how this collaboration fosters long-term support structures\, strengthens artistic exchange\, and amplifies the cultural impact of inclusive dance. The session will explore practical strategies for advancing inclusive dance education\, creating unified frameworks\, and modeling international collaboration in a field often marked by fragmentation. This project seeks not only to deepen regional ties but also to offer a replicable model of inclusive\, cross-border cooperation for the global dance and disability community. \nThis event is free.
URL:https://kaaoscompany.fi/en/event/xdf-panel-discussion-silva-laukkanen-fin-ingeborg-dugstad-sanders-no-janne-kristensen-dk-veera-suvalo-grimberg-sw/
LOCATION:Cultural Center Caisa\, Finland
CATEGORIES:XDF
END:VEVENT
BEGIN:VEVENT
DTSTART;TZID=Europe/Helsinki:20250606T180000
DTEND;TZID=Europe/Helsinki:20250606T193000
DTSTAMP:20260423T232942
CREATED:20250505T183032Z
LAST-MODIFIED:20250529T103328Z
UID:6334-1749232800-1749238200@kaaoscompany.fi
SUMMARY:XDF: Performance - Kaaos Company (FI) & MAD Kollektiv (ES)
DESCRIPTION:Two performances: Sister\, I can feel it in my bones (Finland) and The Wall – MAD Kolektiv (Spain) \nSister\, I can feel it in my bones (Finland) (45min)\n“Talking about the floor\, I just realised\, you know\, like\, people are always saying if you fall you’re going to break your bones\, which is obvious.”\nSister\, I can feel it in bones is an autobiographical\, comedic and occasionally serious work by two performers. The performance travels into a rich world of laughter\, wisdom and the desire to be at peace as part of the spectrum of life\, as one’s self.\n“We are small like diamonds.”\nSister\, I can feel it in my bones is performed by dancer\, actress Christelle Dreyer from South Africa and dance artist Noora Västinen from Finland.\nThe performance is directed by dance and theatre artist Jonna Lehto.\nLanguage: Finnish\, English\nImage: Christelle Dreyer \nThe Wall (Spain) (25 min.)\nShort contemporary dance choreography (initially created for Diverse Pride Madrid)\n6 dancers\nArtistic direction and Choreography: Monika Požek\nLighting Design: Gema Blanco\nCostume Design: MAD Kolektiv \n“Lunatic\, homogeneous\, oppressed and oppressor\, a grey line\, in precise order where nothing breaks free from the mold. We build our walls\, and society builds its external walls. In the cracks\, on the margin\, division\, separated and distinguished\, embraced by dissidents and taking shape\, understanding the reality differently and yearning for something else. We are building the wall and running from it.”\nPerformed by six dancers THE WALL will expose what is behind the curtain and explore the silence within us. \n👉 To buy tickets\, please visit the ticketing page (external link).
URL:https://kaaoscompany.fi/en/event/xdf-performance-kaaos-company-fi-mad-kollektiv-es/
LOCATION:Cultural Center Caisa\, Finland
CATEGORIES:XDF
END:VEVENT
END:VCALENDAR