BEGIN:VCALENDAR
VERSION:2.0
PRODID:-//Kaaos Company EN - ECPv6.13.0//NONSGML v1.0//EN
CALSCALE:GREGORIAN
METHOD:PUBLISH
X-WR-CALNAME:Kaaos Company EN
X-ORIGINAL-URL:https://kaaoscompany.fi/en
X-WR-CALDESC:Events for Kaaos Company EN
REFRESH-INTERVAL;VALUE=DURATION:PT1H
X-Robots-Tag:noindex
X-PUBLISHED-TTL:PT1H
BEGIN:VTIMEZONE
TZID:Europe/Helsinki
BEGIN:DAYLIGHT
TZOFFSETFROM:+0200
TZOFFSETTO:+0300
TZNAME:EEST
DTSTART:20250330T010000
END:DAYLIGHT
BEGIN:STANDARD
TZOFFSETFROM:+0300
TZOFFSETTO:+0200
TZNAME:EET
DTSTART:20251026T010000
END:STANDARD
END:VTIMEZONE
BEGIN:VEVENT
DTSTART;TZID=Europe/Helsinki:20250607T103000
DTEND;TZID=Europe/Helsinki:20250607T113000
DTSTAMP:20260423T232939
CREATED:20250509T102853Z
LAST-MODIFIED:20250509T102853Z
UID:7141-1749292200-1749295800@kaaoscompany.fi
SUMMARY:XDF: Workshop for Children - Veera Suvalo Grimberg\, Danskompaniet Spin (Sweden)
DESCRIPTION:Danskompaniet Spinn’s popular family workshop and Creative school project. Waves that ripple over the water\, crabs that crawl in the sand\, and barnacles in the depths of the sea. Together we explore movements with inspiration from water\, animals and plants. We create a safe feeling where everyone can dare to dare in their own way.\n\n\n\n\n\n👉 To buy tickets\, please visit the ticketing page (external link).
URL:https://kaaoscompany.fi/en/event/xdf-workshop-for-children-veera-suvalo-grimberg-danskompaniet-spin-sweden/
LOCATION:Cultural Center Caisa\, Finland
CATEGORIES:XDF
END:VEVENT
BEGIN:VEVENT
DTSTART;TZID=Europe/Helsinki:20250607T120000
DTEND;TZID=Europe/Helsinki:20250607T124500
DTSTAMP:20260423T232939
CREATED:20250505T182714Z
LAST-MODIFIED:20250505T182714Z
UID:6328-1749297600-1749300300@kaaoscompany.fi
SUMMARY:XDF: Performance for children - Neiti Ida(FI)
DESCRIPTION:Neiti ida – Jonna Aaltonen Duration: 30 min. + discussion(noin. 10 – 15 min.) \nWho?\n\nSolo performance: Dancer Jonna Aaltonen \nCoreography: Hanna Brotherus Dance: Jonna\nAaltonen Music composition/sound design: Anti Ikonen \nCostume design and implementation: Marjo Haapasalo\n\nDescription\n“Neiti Ida” is an interactive and participatory solo dance piece. Shy and reserved Miss Ida becomes joyful and positive through human encounters. The focus of the performance is on love and music\, as well as silence\, power\, and intensity. Encounter and communication through dance. The work includes interactive\, participatory sections\, allowing viewers to move with the performer during the performance if they wish. There is also a discussion session/mini-workshop after each performance. In these moments\, the performer and the audience can marvel together and reflect on the questions and thoughts raised by the performance about always topical issues\, such as friendship\, excitement\, and acceptance of difference. (The work has also been successfully performed for seniors) \n\n👉 To buy tickets\, please visit the ticketing page (external link).
URL:https://kaaoscompany.fi/en/event/xdf-performance-for-children-neiti-idafi/
LOCATION:Cultural Center Caisa\, Finland
CATEGORIES:XDF
END:VEVENT
BEGIN:VEVENT
DTSTART;TZID=Europe/Helsinki:20250607T140000
DTEND;TZID=Europe/Helsinki:20250607T150000
DTSTAMP:20260423T232939
CREATED:20250509T104356Z
LAST-MODIFIED:20250509T104356Z
UID:7158-1749304800-1749308400@kaaoscompany.fi
SUMMARY:XDF: Workshop for Teens 8-16 years - REVolutions Dance (USA)
DESCRIPTION:This workshop is a creative exploration of space\, movement\, and memory—a chance to refresh how we move and how we think about movement. Through collaboration in small groups\, we’ll discover new ways of moving\, challenge habitual patterns\, and encourage participants to break free from their own expectations. Using Oblique Strategies\, we’ll shift perspective\, loosen structure\, and invite unpredictability into the creative process. We’ll explore how to rework\, edit\, or even dismantle movement phrases—without remorse or judgment. This is a space for play\, risk\, and fun. \n👉 To buy tickets\, please visit the ticketing page (external link).
URL:https://kaaoscompany.fi/en/event/xdf-workshop-for-teens-8-16-years-revolutions-dance-usa/
LOCATION:Cultural Center Caisa\, Finland
CATEGORIES:XDF
END:VEVENT
BEGIN:VEVENT
DTSTART;TZID=Europe/Helsinki:20250607T160000
DTEND;TZID=Europe/Helsinki:20250607T164500
DTSTAMP:20260423T232939
CREATED:20250509T103947Z
LAST-MODIFIED:20250509T103947Z
UID:7152-1749312000-1749314700@kaaoscompany.fi
SUMMARY:XDF: Performance for children - Neiti Ida(FI)
DESCRIPTION:Neiti ida – Jonna Aaltonen Duration: 30 min. + discussion(noin. 10 – 15 min.) \nWho?\n\nSolo performance: Dancer Jonna Aaltonen \nCoreography: Hanna Brotherus Dance: Jonna\nAaltonen Music composition/sound design: Anti Ikonen \nCostume design and implementation: Marjo Haapasalo\n\nDescription\n“Neiti Ida” is an interactive and participatory solo dance piece. Shy and reserved Miss Ida becomes joyful and positive through human encounters. The focus of the performance is on love and music\, as well as silence\, power\, and intensity. Encounter and communication through dance. The work includes interactive\, participatory sections\, allowing viewers to move with the performer during the performance if they wish. There is also a discussion session/mini-workshop after each performance. In these moments\, the performer and the audience can marvel together and reflect on the questions and thoughts raised by the performance about always topical issues\, such as friendship\, excitement\, and acceptance of difference. (The work has also been successfully performed for seniors) \n\n👉 To buy tickets\, please visit the ticketing page (external link).
URL:https://kaaoscompany.fi/en/event/xdf-performance-for-children-neiti-idafi-2/
LOCATION:Cultural Center Caisa\, Finland
CATEGORIES:XDF
END:VEVENT
BEGIN:VEVENT
DTSTART;TZID=Europe/Helsinki:20250607T180000
DTEND;TZID=Europe/Helsinki:20250607T200000
DTSTAMP:20260423T232939
CREATED:20250430T101728Z
LAST-MODIFIED:20250607T091749Z
UID:6025-1749319200-1749326400@kaaoscompany.fi
SUMMARY:XDF: performance - FIMD (DK) & Kris Lenzo (USA) & Kaaos Company (FI)
DESCRIPTION:The performance of the X Dance Festival at the Caisa Cultural Center today at 6 PM is sold out!\n\n3 performances: FIMD (DK): Walking care-freely through troubles\, Kris Lenzo (USA): Method\, Kaos Company: Sister \nFIMD (DK): Walking care-freely through troubles (20min)\nSolo\, Dancer: Sissel Phul Stauersbøl. Choreographer Paulina Rewucka\, in collaboration with Sissel and Artistic Director Janne Weidinger. Music designer: Dave Black \nThis work is about chosen solitude and feelings which occur in the realm between a child and becoming a grown up. It is an attempt to approach the rollercoaster of a lifetime. \n“Number 1 girl. The pump is out of order. These hands are made for walking. Is there anything you would wanna say to your surroundings or to the world if you would have space and they would listen? No matter what you’re going through\, it’s gonna get better at some point. Well… we’ve all gone through something tough before but you will find your way again. What do you say when I say fan-club? K-pop. Korea… …here I come! Stay yourself. Don’t care too much what other people say. Don’t change for other people.”  \nKris Lenzo (USA): Method (4min)\nFrom Choreographer Julia Cox- As I began working with Kris for the first time\, I noticed how different we were in how we think and move when it comes to dance. So I learned how to adapt to his method of moving and learning\, hence the name\, “Method.” It was a great learning experience and working with someone so athletic who is also a wheelchair user. I helped create this piece with both our methods of creative process. \nKaos Company: Sister\, I can feel it in my bones (Finland) (45min)\n“Talking about the floor\, I just realised\, you know\, like\, people are always saying if you fall you’re going to break your bones\, which is obvious.”\nSister\, I can feel it in bones is an autobiographical\, comedic and occasionally serious work by two performers. The performance travels into a rich world of laughter\, wisdom and the desire to be at peace as part of the spectrum of life\, as one’s self.\n“We are small like diamonds.”\nSister\, I can feel it in my bones is performed by dancer\, actress Christelle Dreyer from South Africa and dance artist Noora Västinen from Finland.\nThe performance is directed by dance and theatre artist Jonna Lehto.\nLanguage: Finnish\, English\nImage: Christelle Dreyer \n👉 To buy tickets\, please visit the ticketing page (external link).
URL:https://kaaoscompany.fi/en/event/walking-care-freely-through-troubles-fimd/
LOCATION:Cultural Center Caisa\, Finland
CATEGORIES:XDF
END:VEVENT
END:VCALENDAR