BEGIN:VCALENDAR
VERSION:2.0
PRODID:-//Kaaos Company EN - ECPv6.13.0//NONSGML v1.0//EN
CALSCALE:GREGORIAN
METHOD:PUBLISH
X-WR-CALNAME:Kaaos Company EN
X-ORIGINAL-URL:https://kaaoscompany.fi/en
X-WR-CALDESC:Events for Kaaos Company EN
REFRESH-INTERVAL;VALUE=DURATION:PT1H
X-Robots-Tag:noindex
X-PUBLISHED-TTL:PT1H
BEGIN:VTIMEZONE
TZID:Europe/Helsinki
BEGIN:DAYLIGHT
TZOFFSETFROM:+0200
TZOFFSETTO:+0300
TZNAME:EEST
DTSTART:20250330T010000
END:DAYLIGHT
BEGIN:STANDARD
TZOFFSETFROM:+0300
TZOFFSETTO:+0200
TZNAME:EET
DTSTART:20251026T010000
END:STANDARD
END:VTIMEZONE
BEGIN:VEVENT
DTSTART;TZID=Europe/Helsinki:20250608T110000
DTEND;TZID=Europe/Helsinki:20250608T130000
DTSTAMP:20260423T232917
CREATED:20250509T110639Z
LAST-MODIFIED:20250527T093624Z
UID:7167-1749380400-1749387600@kaaoscompany.fi
SUMMARY:XDF: Workshop - Jennifer Gardenia (FIN)
DESCRIPTION:Workshop: Accessible yoga and meditation \nThis 2-hour workshop\, facilitated by Jennifer Garrido—occupational therapist\, somatic coach\, and ERYT-500 yoga instructor—offers an inclusive space to explore accessible yoga and meditation. Jennifer specializes in adaptive yoga for diverse bodies and minds\, integrating a trauma-sensitive and neurodiversity-affirming approach. \nThrough gentle movement\, guided meditation\, and group reflection\, participants will explore how contemplative\, body-oriented practices can and must be made accessible to all. Drawing from her method\, Sensorial Yoga\, Jennifer invites you to reconnect with your body in a way that honors each person’s unique embodied experience. \nNo prior experience necessary. All bodies and minds are welcome. Participants can bring yoga mats (optional)\, one blanket and wear comfortable clothes. \n👉 To buy tickets\, please visit the ticketing page (external link).
URL:https://kaaoscompany.fi/en/event/accessible-yoga/
LOCATION:Cultural Center Caisa\, Finland
CATEGORIES:XDF
END:VEVENT
BEGIN:VEVENT
DTSTART;TZID=Europe/Helsinki:20250608T140000
DTEND;TZID=Europe/Helsinki:20250608T153000
DTSTAMP:20260423T232917
CREATED:20250509T111050Z
LAST-MODIFIED:20250527T093813Z
UID:7171-1749391200-1749396600@kaaoscompany.fi
SUMMARY:XDF: Workshop Sydney Erlikh + Maypril Krukowski + Erin Compton (UDF) Riina Hannuksela + Dancers TBA from Ihanat Project
DESCRIPTION:This is a workshop designed for people with intellectual disabilities and their communities\, as well as people interested in dancing or teaching dance to this community. Everyone is welcome including your personal assistant.\nacers with intelle\nDuring the workshop\, we will introduce accessible dance practices for people with intellectual disabilities. We will use improvisational tools and Augmentative Alternative Communication as a creative method to support the class \n👉 To buy tickets\, please visit the ticketing page (external link).
URL:https://kaaoscompany.fi/en/event/xdf-workshop-sydney-erlikh-maypril-krukowski-erin-compton-udf-riina-hannuksela-dancers-tba-from-ihanat-project/
LOCATION:Cultural Center Caisa\, Finland
CATEGORIES:XDF
END:VEVENT
BEGIN:VEVENT
DTSTART;TZID=Europe/Helsinki:20250608T163000
DTEND;TZID=Europe/Helsinki:20250608T173000
DTSTAMP:20260423T232917
CREATED:20250509T111700Z
LAST-MODIFIED:20250527T093956Z
UID:7176-1749400200-1749403800@kaaoscompany.fi
SUMMARY:XDF: Performance - Ihanat company & Unfolding Disability Futures
DESCRIPTION:In this work-in-progress showing we will share the creative process developed by dancers with intellectual disabilities from Ihanat and UDF created during the X Dance Festival. There will be a bilingual talk back directly following the showing where the audience can comment or ask questions about the current process. \nSydney Erlikh + Maypril Krukowski-Minor + Erin Compton (UDF)\nRiina Hannuksela + Dancers TBA from Ihanat Project \nFunded by the American Scandinavian Foundation and the Lois Roth Foundation \n\n👉 To buy tickets\, please visit the ticketing page (external link).
URL:https://kaaoscompany.fi/en/event/xdf-performance-ihanat-company-unfolding-disability-futures/
LOCATION:Cultural Center Caisa\, Finland
CATEGORIES:XDF
END:VEVENT
END:VCALENDAR