BEGIN:VCALENDAR
VERSION:2.0
PRODID:-//Kaaos Company EN - ECPv6.13.0//NONSGML v1.0//EN
CALSCALE:GREGORIAN
METHOD:PUBLISH
X-ORIGINAL-URL:https://kaaoscompany.fi/en
X-WR-CALDESC:Events for Kaaos Company EN
REFRESH-INTERVAL;VALUE=DURATION:PT1H
X-Robots-Tag:noindex
X-PUBLISHED-TTL:PT1H
BEGIN:VTIMEZONE
TZID:Europe/Helsinki
BEGIN:DAYLIGHT
TZOFFSETFROM:+0200
TZOFFSETTO:+0300
TZNAME:EEST
DTSTART:20250330T010000
END:DAYLIGHT
BEGIN:STANDARD
TZOFFSETFROM:+0300
TZOFFSETTO:+0200
TZNAME:EET
DTSTART:20251026T010000
END:STANDARD
END:VTIMEZONE
BEGIN:VEVENT
DTSTART;TZID=Europe/Helsinki:20251203T140000
DTEND;TZID=Europe/Helsinki:20251203T200000
DTSTAMP:20260421T125849
CREATED:20251031T193516Z
LAST-MODIFIED:20251031T193748Z
UID:8347-1764770400-1764792000@kaaoscompany.fi
SUMMARY:DiDa Festival - International Day of Persons with Disabilities - Use Your Voice
DESCRIPTION:Kaaos company will be part of DiDa Festival with their makes noise on the International Day of Persons with Disabilities – December 3\, 2025\nTheme: “Use Your Voice” \nThe 2025 DiDa – Disability Day Art & Action – cultural festival will take place in Helsinki and will also be streamed live online! DiDa invites everyone to celebrate the annual UN International Day of Persons with Disabilities. \nDATE: Wednesday\, December 3\, 2025\, from 2 PM to 8 PM\nVENUE: Cultural Centre Caisa\, Kaikukatu 4 B\, Helsinki \nThe event is free and open to all.\nYou can also follow the festival via live stream. More information about the event: disabilityday.info
URL:https://kaaoscompany.fi/en/event/dida-festival-international-day-of-persons-with-disabilities-use-your-voice/
LOCATION:Cultural Center Caisa\, Finland
CATEGORIES:Performance
END:VEVENT
END:VCALENDAR