BEGIN:VCALENDAR
VERSION:2.0
PRODID:-//Kaaos Company EN - ECPv6.13.0//NONSGML v1.0//EN
CALSCALE:GREGORIAN
METHOD:PUBLISH
X-ORIGINAL-URL:https://kaaoscompany.fi/en
X-WR-CALDESC:Events for Kaaos Company EN
REFRESH-INTERVAL;VALUE=DURATION:PT1H
X-Robots-Tag:noindex
X-PUBLISHED-TTL:PT1H
BEGIN:VTIMEZONE
TZID:Europe/Helsinki
BEGIN:DAYLIGHT
TZOFFSETFROM:+0200
TZOFFSETTO:+0300
TZNAME:EEST
DTSTART:20250330T010000
END:DAYLIGHT
BEGIN:STANDARD
TZOFFSETFROM:+0300
TZOFFSETTO:+0200
TZNAME:EET
DTSTART:20251026T010000
END:STANDARD
END:VTIMEZONE
BEGIN:VEVENT
DTSTART;TZID=Europe/Helsinki:20250605T140000
DTEND;TZID=Europe/Helsinki:20250605T160000
DTSTAMP:20260423T120338
CREATED:20250527T090043Z
LAST-MODIFIED:20250527T090056Z
UID:8243-1749132000-1749139200@kaaoscompany.fi
SUMMARY:XDF: Workshop - Paulina Rewucka (DK) / FIMD
DESCRIPTION:Workshop: K-POW-orkshop \nDescription\nK-POW-orkshop will be an opening of the process of creating a solo performance by Sissel with Paulina as choreographic assistant. Together\, they will facilitate a workshop offering young participants and families insight into the methods and motifs shaping the solo. \nWe will begin with a gentle warm-up to attune to our bodies and each other. From there\, we’ll explore movement material inspired by K-pop\, focusing on short choreographic sequences based on hand gestures. Using this material as a starting point\, we will experiment with choreographic tools such as interviewing one another\, adding textures\, and shifting spatial configurations. \n👉 To buy tickets\, please visit the ticketing page (external link).
URL:https://kaaoscompany.fi/en/event/xdf-workshop-paulina-rewucka-dk-fimd/
LOCATION:Cultural Center Caisa\, Finland
CATEGORIES:XDF
END:VEVENT
BEGIN:VEVENT
DTSTART;TZID=Europe/Helsinki:20250605T110000
DTEND;TZID=Europe/Helsinki:20250605T130000
DTSTAMP:20260423T120338
CREATED:20250509T093346Z
LAST-MODIFIED:20250527T085631Z
UID:7105-1749121200-1749128400@kaaoscompany.fi
SUMMARY:XDF: Workshop - Lauren Sheely (USA) and Jonna Lehto (FIN) / Unfolding Disability Futures and Kaaos Company
DESCRIPTION:Workshop: Humorously yours\, my body \nDescription\nJoin Jonna Lehto and Lauren Sheely for this playful workshop exploring the body as a site for comedic possibility. Participants will be led through a series of explorations to investigate the comedic potential of dance improvisation utilizing the body as a starting point. We will then begin to utilize our improvisations to develop movement and gestural phrases\, with the potential of collaborating together in different combinations. Our goal is to create a space for participants to consider the bodies as material for comedy\, giving permission to improvise with curiosity and lightness. \n👉 To buy tickets\, please visit the ticketing page (external link).
URL:https://kaaoscompany.fi/en/event/xdf-workshop-humorously-yours-my-body-johna-lehto-and-lauren-sheely/
LOCATION:Cultural Center Caisa\, Finland
CATEGORIES:XDF
END:VEVENT
BEGIN:VEVENT
DTSTART;TZID=Europe/Helsinki:20250604T180000
DTEND;TZID=Europe/Helsinki:20250604T193000
DTSTAMP:20260423T120338
CREATED:20250527T085139Z
LAST-MODIFIED:20250602T080346Z
UID:8237-1749060000-1749065400@kaaoscompany.fi
SUMMARY:XDF: Ecosomatic Practice: Petra Kuppers (USA)\, Raffaele Rufo (IT)\, Maria Huhmarniemi (FIN)\, Jarred Gradinger (GE)
DESCRIPTION:Panel Conversation \nHow can movement + nature reshape access for all bodies?\nHow can Nature support artistic practice? How can we stay in touch with nature? How can we translate somatically sensations into creative choices? What does “ecosomatic” even mean?\nThe body as an ecological sensor – By listening through the body\, artists translate sunlight\, soil\, and wind into choreographic choices\, making nature an active collaborator in performance. This panel explores how ecosomatics can expand accessibility\, offer new creative vocabularies\, and re-imagine care for the planet. \nPanel Conversation available for online participants via zoom. Email silvalaukkanen@gmail.com to receive your zoom link. \nThis event is free.  \n 
URL:https://kaaoscompany.fi/en/event/xdf-ecosomatic-practice-petra-kuppers-usa-rafaelo-rufo-it-maria-huhtaniemi-fin-jarred-gradinger-ge/
LOCATION:Cultural Center Caisa\, Finland
CATEGORIES:XDF
END:VEVENT
BEGIN:VEVENT
DTSTART;TZID=Europe/Helsinki:20250604T163000
DTEND;TZID=Europe/Helsinki:20250604T173000
DTSTAMP:20260423T120338
CREATED:20250527T084135Z
LAST-MODIFIED:20250527T084135Z
UID:8234-1749054600-1749058200@kaaoscompany.fi
SUMMARY:XDF: Site-Specific Performance | In front of Caisa’s Entrance
DESCRIPTION:Nature in Motion is a collaboration between MAD Kolektiv (Spain) and Kaaos Company (Finland)\, exploring dancers’ connection to and access to nature through movement. This outdoor performance shares the current outcomes of their ongoing creative exchange. \n👉This event is free. Just come and enjoy the performance!
URL:https://kaaoscompany.fi/en/event/xdf-site-specific-performance-in-front-of-caisas-entrance/
LOCATION:Cultural Center Caisa\, Finland
CATEGORIES:XDF
END:VEVENT
BEGIN:VEVENT
DTSTART;TZID=Europe/Helsinki:20250604T110000
DTEND;TZID=Europe/Helsinki:20250604T130000
DTSTAMP:20260423T120338
CREATED:20250509T091825Z
LAST-MODIFIED:20250527T083725Z
UID:7095-1749034800-1749042000@kaaoscompany.fi
SUMMARY:XDF: Workshop - Deborah Goodman/ Unfolding Disability Future (USA)
DESCRIPTION:Workshop: Exlopration in early American Modern Dance \nDescription\nDeb Goodman’s workshop will focus on the work of early American Modern Dance vanguards\, Martha Graham\, Doris Humphrey\, and José Limon. \nIn this workshop we will learn modified excerpts from Martha Graham’s “Lamentation” and José Límon’s “Missa Brevis”. Dancers will warm and prepare for this work through a series of slow\, meditative phrases grounded in the principles of breath rhythms\, movement from the body’s center\, shift-of-weight\, spiral twists\, and oppositional motion\, including center and off-center balance \n👉 To buy tickets\, please visit the ticketing page (external link).
URL:https://kaaoscompany.fi/en/event/xdf-workshop-exlopration-in-early-american-modern-dance-deb-goodman-usa/
LOCATION:Cultural Center Caisa\, Finland
CATEGORIES:XDF
END:VEVENT
BEGIN:VEVENT
DTSTART;TZID=Europe/Helsinki:20250603T180000
DTEND;TZID=Europe/Helsinki:20250603T193000
DTSTAMP:20260423T120338
CREATED:20250505T183623Z
LAST-MODIFIED:20250527T083430Z
UID:6346-1748973600-1748979000@kaaoscompany.fi
SUMMARY:XDF: Film Night
DESCRIPTION:Join us for an inspiring evening featuring four outstanding dance films: \n\nLES CHAUSSURES ROUGES – Maylis Arrabit    \nThe Radiator – Maggie Bridger\nMoods in Three Movements – Kris Lenzo & Sydney Erlikh\nThese Two – Christelle Dreyer & Joseph Tebandeke\n\nAfter the screenings\, don’t miss the chance to engage with the artists in a Q&A session!  \nYou can join this film night virtually via zoom. Email silvalaukkanen@gmail.com to receive your zoom link. \n👉 To buy tickets\, please visit the ticketing page (external link).
URL:https://kaaoscompany.fi/en/event/xdf-film-night/
LOCATION:Cultural Center Caisa\, Finland
CATEGORIES:XDF
END:VEVENT
BEGIN:VEVENT
DTSTART;TZID=Europe/Helsinki:20250603T140000
DTEND;TZID=Europe/Helsinki:20250603T160000
DTSTAMP:20260423T120338
CREATED:20250508T195610Z
LAST-MODIFIED:20250527T083131Z
UID:7070-1748959200-1748966400@kaaoscompany.fi
SUMMARY:XDF: Workshop - Monika Pozek / MAD Kolektiv (ES)
DESCRIPTION:Workshop: The old idea \nDescription\nThis workshop is a creative exploration of space\, movement\, and memory—a chance to refresh how we move and how we think about movement. Through collaboration in small groups\, we’ll discover new ways of moving\, challenge habitual patterns\, and encourage participants to break free from their own expectations. \nUsing Oblique Strategies\, we’ll shift perspective\, loosen structure\, and invite unpredictability into the creative process. We’ll explore how to rework\, edit\, or even dismantle movement phrases—without remorse or judgment. \nThis is a space for play\, risk\, and fun. \n👉 To buy tickets\, please visit the ticketing page (external link).
URL:https://kaaoscompany.fi/en/event/xdf-workshop-monika-pozek-es/
LOCATION:Cultural Center Caisa\, Finland
CATEGORIES:XDF
END:VEVENT
BEGIN:VEVENT
DTSTART;TZID=Europe/Helsinki:20250603T110000
DTEND;TZID=Europe/Helsinki:20250603T130000
DTSTAMP:20260423T120338
CREATED:20250508T200237Z
LAST-MODIFIED:20250527T082710Z
UID:7079-1748948400-1748955600@kaaoscompany.fi
SUMMARY:XDF: Workshop Dwayne Scheuneman and Samantha Kedziora/ REVolutions Dance (USA)
DESCRIPTION:Festival Opening Workshop: Come as you are \nStart the festival by connecting—with each other and with the space we’ll be sharing throughout the week. Led by REVolutionaries D and Sam\, this playful\, movement-based workshop invites you to arrive fully as yourself. Through group exercises that build trust and spark curiosity\, we’ll explore what it means to move together and create a sense of shared community. Whether this is your first festival or your tenth\, this session is a joyful and low-pressure way to ease in\, meet new people\, and begin building the connections that will carry us forward. \n👉 To buy tickets\, please visit the ticketing page (external link).
URL:https://kaaoscompany.fi/en/event/xdf-workshop-2revolutions-dance/
LOCATION:Cultural Center Caisa\, Finland
CATEGORIES:XDF
END:VEVENT
BEGIN:VEVENT
DTSTART;TZID=Europe/Helsinki:20250525T140000
DTEND;TZID=Europe/Helsinki:20250525T160000
DTSTAMP:20260423T120338
CREATED:20250429T190346Z
LAST-MODIFIED:20250521T151204Z
UID:5796-1748181600-1748188800@kaaoscompany.fi
SUMMARY:Movement Improvisation Class 25.5.
DESCRIPTION:Description\nThe movement improvisation class will start with a teacher-led opening circle and a short introduction of the teacher and participants to create a safe space together. This is followed by a guided warm-up with music. All activities are voluntary. Participants are encouraged to listen to their own body and follow their needs.\nThe class continues in pairs and small groups with teacher-led exercises with clear instructions and structure to support dancing together and discovering new expressions. This may include experimentation and encouragement of safe ways to experiment and play with the unknown.\nThe class will usually build towards dancing together and improvisation by the whole group. We encourage listening to the body and following needs\, e.g. sometimes by watching others (witnessing) and taking breaks when necessary.\nFinally\, the teacher facilitates a closing circle where there is an opportunity to reflect and listen to others. \nThe classes will be led by professionals with a background in dance\, theatre\, disability\, pedagogy and accessibility\, all with different artistic-pedagogical backgrounds and a history of working with Kaaos Company. The classes are open to all. \nThe classes encourage a wide range of individual expression and styles – there is no one way! Each class lasts 2 hours\, including toilet and snack breaks and a starting and ending circle. \nThe classes encourage a wide range of individual expression and styles – there is no one way! Each class lasts 2 hours\, including toilet and snack breaks and a starting and ending circle.\nDance classes aim to be more accessible and inclusive for all people with and without disabilities. We do not discriminate against people based on their ability\, gender identity and expression\, cultural or ethnic background\, sexual orientation\, age\, class\, nationality\, religion\, language or appearance. All levels of dance experience and styles are welcome. \nUnfortunately\, we do not currently offer sign language interpretation during classes. We are working to improve this\, please contact us if you have any ideas or suggestion \nTime\nSundays from 14-16 (Note: no classes on 23.2\, 2.3.)\nIt is important that you try to arrive on time so that we can start the lesson together at 14:00. However\, we understand that being on time is not always possible. If you are late\, you are still welcome to join us! \nPlace\nCable Factory\, Tallberginkatu 1 C\, Helsinki\, Zodiak rehearsal room C4.\nThe space is accessible.\nC4 is located on the 4th floor at door C of Kaapelitehdas. A spacious cargo lift that comes close to C4 can be found here at door C. The door to the lift is heavy.\nThere is a regular lift that can fit one power wheelchair plus one or two standing people. This lift is accessed by going up the ramp to the left of the building and inside to the 1st floor through two sets of heavy doors. The lift is opposite Cafe Hima ja Sali through another heavy door. At the 4th floor\, there is a heavy door to go through when you exit the lift\, and you will see the entrance to C4. \nTAXI: If you arrive or leave Kaapelitehdas by taxi\, please ask the driver to come to door C at the inner courtyard of Kaapelitehdas. The inner courtyard is accessible via Tallberginkatu. The address for taxis is Tallberginkatu 1. \nTOILET: There are two toilets next to the C4 studio. The accessible toilet is located on the 1st floor\, near the Hima and Sali restaurant and the entrance. \nAssistants\nAssistants can join the class for free. We encourage you to dance independently and avoid assisting during this time\, except when required.\nIf you prefer to stay in the room without joining\, please observe the class\, and leave out any electronic devices. If you need to do other tasks\, please do them outside in the foyer of the studio.\nIf you encounter a problem: You can always give feedback to the teacher. If you want to discuss or give feedback later\, you can also contact us by e-mail: opetus@kaaoscompany.fi. \nPrice:\nSeries card: 27€/6 lessons\, Spring season card 60€/18 lessons. Pay the cards in advance into our bank account and print out a receipt or take a mobile phone picture of it with you to the first class! Season/series cards are valid after payment from the first lesson until the end of the season.\nSingle lesson: 5€\, payable in cash to the teacher before the lesson or to our bank account. For new participants\, the first class is free and an assistant can always join for free. When you bring a new friend\, the lesson is free for both. \nThe new account number of Inklusiivisen tanssin tuki ry:\nFI02 5410 0220 5975 80 \nAsk for more information about the classes: opetus@kaaoscompany.fi
URL:https://kaaoscompany.fi/en/event/movement-improvisation-class-25-5/
LOCATION:Cable Factory\, Zodiak dance studio C4\, Tallberginkatu 1 B\, Helsinki\, Finland
CATEGORIES:Classes
END:VEVENT
BEGIN:VEVENT
DTSTART;TZID=Europe/Helsinki:20250524T170000
DTEND;TZID=Europe/Helsinki:20250524T180000
DTSTAMP:20260423T120338
CREATED:20250429T192335Z
LAST-MODIFIED:20250520T195927Z
UID:5806-1748106000-1748109600@kaaoscompany.fi
SUMMARY:Children's inclusive dance class 24.5
DESCRIPTION:Description\nOur dance classes for all kinds of children offer children and their adults the joy of togetherness\, movement and an opportunity to meet new people of similar and different backgrounds. During the classes we play with movement together and each in our own way. \nThe classes are taught by professionals with expertise in dance\, theatre\, disability\, pedagogy and accessibility\, all with different artistic-pedagogical backgrounds. \nNumber of participants: max. 18 (children and adults together) \nPlace\nDance classroom\, Annantalo (Annankatu 30\, Helsinki). The accessible entrance can be found in the backyard of the building on the side of Kansakoulukuja. \nPrice:\nThe classes are free and open to children of all ages and their adults\, regardless of disability or non-disability. \nPreregistration:\n\n\n\n\nopetus@kaaoscompany.fi
URL:https://kaaoscompany.fi/en/event/childrens-inclusive-dance-class-24-5/
LOCATION:Dance classroom\, Annantalo\, Annankatu 30\, Helsinki\, Finland
CATEGORIES:Classes
END:VEVENT
BEGIN:VEVENT
DTSTART;TZID=Europe/Helsinki:20250519T170000
DTEND;TZID=Europe/Helsinki:20250519T170000
DTSTAMP:20260423T120338
CREATED:20250418T094402Z
LAST-MODIFIED:20250418T094402Z
UID:91-1747674000-1747674000@kaaoscompany.fi
SUMMARY:Movement Improvisation Class 18.5.
DESCRIPTION:Description\nThe movement improvisation class will start with a teacher-led opening circle and a short introduction of the teacher and participants to create a safe space together. This is followed by a guided warm-up with music. All activities are voluntary. Participants are encouraged to listen to their own body and follow their needs.\nThe class continues in pairs and small groups with teacher-led exercises with clear instructions and structure to support dancing together and discovering new expressions. This may include experimentation and encouragement of safe ways to experiment and play with the unknown.\nThe class will usually build towards dancing together and improvisation by the whole group. We encourage listening to the body and following needs\, e.g. sometimes by watching others (witnessing) and taking breaks when necessary.\nFinally\, the teacher facilitates a closing circle where there is an opportunity to reflect and listen to others. \nThe classes will be led by professionals with a background in dance\, theatre\, disability\, pedagogy and accessibility\, all with different artistic-pedagogical backgrounds and a history of working with Kaaos Company. The classes are open to all. \nThe classes encourage a wide range of individual expression and styles – there is no one way! Each class lasts 2 hours\, including toilet and snack breaks and a starting and ending circle. \nThe classes encourage a wide range of individual expression and styles – there is no one way! Each class lasts 2 hours\, including toilet and snack breaks and a starting and ending circle.\nDance classes aim to be more accessible and inclusive for all people with and without disabilities. We do not discriminate against people based on their ability\, gender identity and expression\, cultural or ethnic background\, sexual orientation\, age\, class\, nationality\, religion\, language or appearance. All levels of dance experience and styles are welcome. \nUnfortunately\, we do not currently offer sign language interpretation during classes. We are working to improve this\, please contact us if you have any ideas or suggestion \nTime\nSundays from 14-16 (Note: no classes on 23.2\, 2.3.)\nIt is important that you try to arrive on time so that we can start the lesson together at 14:00. However\, we understand that being on time is not always possible. If you are late\, you are still welcome to join us! \nPlace\nCable Factory\, Tallberginkatu 1 C\, Helsinki\, Zodiak rehearsal room C4.\nThe space is accessible.\nC4 is located on the 4th floor at door C of Kaapelitehdas. A spacious cargo lift that comes close to C4 can be found here at door C. The door to the lift is heavy.\nThere is a regular lift that can fit one power wheelchair plus one or two standing people. This lift is accessed by going up the ramp to the left of the building and inside to the 1st floor through two sets of heavy doors. The lift is opposite Cafe Hima ja Sali through another heavy door. At the 4th floor\, there is a heavy door to go through when you exit the lift\, and you will see the entrance to C4. \nTAXI: If you arrive or leave Kaapelitehdas by taxi\, please ask the driver to come to door C at the inner courtyard of Kaapelitehdas. The inner courtyard is accessible via Tallberginkatu. The address for taxis is Tallberginkatu 1. \nTOILET: There are two toilets next to the C4 studio. The accessible toilet is located on the 1st floor\, near the Hima and Sali restaurant and the entrance. \nAssistants\nAssistants can join the class for free. We encourage you to dance independently and avoid assisting during this time\, except when required.\nIf you prefer to stay in the room without joining\, please observe the class\, and leave out any electronic devices. If you need to do other tasks\, please do them outside in the foyer of the studio.\nIf you encounter a problem: You can always give feedback to the teacher. If you want to discuss or give feedback later\, you can also contact us by e-mail: opetus@kaaoscompany.fi. \nPrice:\nSeries card: 27€/6 lessons\, Spring season card 60€/18 lessons. Pay the cards in advance into our bank account and print out a receipt or take a mobile phone picture of it with you to the first class! Season/series cards are valid after payment from the first lesson until the end of the season.\nSingle lesson: 5€\, payable in cash to the teacher before the lesson or to our bank account. For new participants\, the first class is free and an assistant can always join for free. When you bring a new friend\, the lesson is free for both. \nThe new account number of Inklusiivisen tanssin tuki ry:\nFI02 5410 0220 5975 80 \nAsk for more information about the classes: opetus@kaaoscompany.fi
URL:https://kaaoscompany.fi/en/event/movement-improvisation-class-18-5/
LOCATION:Cable Factory\, Zodiak dance studio C4\, Tallberginkatu 1 B\, Helsinki\, Finland
CATEGORIES:Classes
ATTACH;FMTTYPE=image/jpeg:https://kaaoscompany.fi/en/wp-content/uploads/sites/5/2025/05/Movement-improvisation-class-pic1.jpg
END:VEVENT
BEGIN:VEVENT
DTSTART;TZID=Europe/Helsinki:20250517T170000
DTEND;TZID=Europe/Helsinki:20250517T180000
DTSTAMP:20260423T120338
CREATED:20250418T131144Z
LAST-MODIFIED:20250418T131144Z
UID:96-1747501200-1747504800@kaaoscompany.fi
SUMMARY:Children's inclusive dance class 17.5
DESCRIPTION:Description\nOur dance classes for all kinds of children offer children and their adults the joy of togetherness\, movement and an opportunity to meet new people of similar and different backgrounds. During the classes we play with movement together and each in our own way. \nThe classes are taught by professionals with expertise in dance\, theatre\, disability\, pedagogy and accessibility\, all with different artistic-pedagogical backgrounds. \nNumber of participants: max. 18 (children and adults together) \nPlace\nDance classroom\, Annantalo (Annankatu 30\, Helsinki). The accessible entrance can be found in the backyard of the building on the side of Kansakoulukuja. \nPrice:\nThe classes are free and open to children of all ages and their adults\, regardless of disability or non-disability. \nPreregistration:\n\n\n\n\nopetus@kaaoscompany.fi
URL:https://kaaoscompany.fi/en/event/childrens-inclusive-dance-class-17-5/
LOCATION:Dance classroom\, Annantalo\, Annankatu 30\, Helsinki\, Finland
CATEGORIES:Classes
ATTACH;FMTTYPE=image/jpeg:https://kaaoscompany.fi/en/wp-content/uploads/sites/5/2025/05/Photo-for-Childrens-Class.jpg
END:VEVENT
END:VCALENDAR